BEGIN:VCALENDAR
VERSION:2.0
PRODID:icalendar-ruby
CALSCALE:GREGORIAN
METHOD:PUBLISH
BEGIN:VEVENT
DTSTAMP:20260422T233704Z
UID:7-497963@boonevillefupc.com
DTSTART:20260913T160000Z
DTEND:20260913T170000Z
CLASS:PUBLIC
CREATED:20260422T155458
DESCRIPTION:
LAST-MODIFIED:20260422T155458
LOCATION:Main Campus Sanctuary
SUMMARY:Worship Service
URL;VALUE=URI:https://www.boonevillefupc.org/events/worship-service--7/2026
 -09-13
END:VEVENT
END:VCALENDAR
