BEGIN:VCALENDAR
VERSION:2.0
PRODID:icalendar-ruby
CALSCALE:GREGORIAN
METHOD:PUBLISH
BEGIN:VEVENT
DTSTAMP:20260422T193237Z
UID:7-497559@boonevillefupc.com
DTSTART:20260830T160000Z
DTEND:20260830T170000Z
CLASS:PUBLIC
CREATED:20260422T125952
DESCRIPTION:
LAST-MODIFIED:20260422T125952
LOCATION:Main Campus Sanctuary
SUMMARY:Worship Service
URL;VALUE=URI:https://www.boonevillefupc.org/events/worship-service--7/2026
 -08-30
END:VEVENT
END:VCALENDAR
