BEGIN:VCALENDAR
VERSION:2.0
PRODID:icalendar-ruby
CALSCALE:GREGORIAN
METHOD:PUBLISH
BEGIN:VEVENT
DTSTAMP:20260422T134136Z
UID:7-496752@boonevillefupc.com
DTSTART:20260809T160000Z
DTEND:20260809T170000Z
CLASS:PUBLIC
CREATED:20260422T070946
DESCRIPTION:
LAST-MODIFIED:20260422T070946
LOCATION:Main Campus Sanctuary
SUMMARY:Worship Service
URL;VALUE=URI:https://www.boonevillefupc.org/events/worship-service--7/2026
 -08-09
END:VEVENT
END:VCALENDAR
