BEGIN:VCALENDAR
VERSION:2.0
PRODID:icalendar-ruby
CALSCALE:GREGORIAN
METHOD:PUBLISH
BEGIN:VEVENT
DTSTAMP:20260422T101447Z
UID:7-496348@boonevillefupc.com
DTSTART:20260726T160000Z
DTEND:20260726T170000Z
CLASS:PUBLIC
CREATED:20260421T200435
DESCRIPTION:
LAST-MODIFIED:20260421T200435
LOCATION:Main Campus Sanctuary
SUMMARY:Worship Service
URL;VALUE=URI:https://www.boonevillefupc.org/events/worship-service--7/2026
 -07-26
END:VEVENT
END:VCALENDAR
