BEGIN:VCALENDAR
VERSION:2.0
PRODID:icalendar-ruby
CALSCALE:GREGORIAN
METHOD:PUBLISH
BEGIN:VEVENT
DTSTAMP:20260422T044828Z
UID:7-496345@boonevillefupc.com
DTSTART:20260705T160000Z
DTEND:20260705T170000Z
CLASS:PUBLIC
CREATED:20260421T200434
DESCRIPTION:
LAST-MODIFIED:20260421T200434
LOCATION:Main Campus Sanctuary
SUMMARY:Worship Service
URL;VALUE=URI:https://www.boonevillefupc.org/events/worship-service--7/2026
 -07-05
END:VEVENT
END:VCALENDAR
