BEGIN:VCALENDAR
VERSION:2.0
PRODID:icalendar-ruby
CALSCALE:GREGORIAN
METHOD:PUBLISH
BEGIN:VEVENT
DTSTAMP:20260422T010715Z
UID:7-496343@boonevillefupc.com
DTSTART:20260621T160000Z
DTEND:20260621T170000Z
CLASS:PUBLIC
CREATED:20260421T200434
DESCRIPTION:
LAST-MODIFIED:20260421T200434
LOCATION:Main Campus Sanctuary
SUMMARY:Worship Service
URL;VALUE=URI:https://www.boonevillefupc.org/events/worship-service--7/2026
 -06-21
END:VEVENT
END:VCALENDAR
