BEGIN:VCALENDAR
VERSION:2.0
PRODID:icalendar-ruby
CALSCALE:GREGORIAN
METHOD:PUBLISH
BEGIN:VEVENT
DTSTAMP:20260421T225615Z
UID:7-495940@boonevillefupc.com
DTSTART:20260614T160000Z
DTEND:20260614T170000Z
CLASS:PUBLIC
CREATED:20260421T172547
DESCRIPTION:
LAST-MODIFIED:20260421T172547
LOCATION:Main Campus Sanctuary
SUMMARY:Worship Service
URL;VALUE=URI:https://www.boonevillefupc.org/events/worship-service--7/2026
 -06-14
END:VEVENT
END:VCALENDAR
