BEGIN:VCALENDAR
VERSION:2.0
PRODID:icalendar-ruby
CALSCALE:GREGORIAN
METHOD:PUBLISH
BEGIN:VEVENT
DTSTAMP:20260421T211620Z
UID:7-495537@boonevillefupc.com
DTSTART:20260607T160000Z
DTEND:20260607T170000Z
CLASS:PUBLIC
CREATED:20260421T144747
DESCRIPTION:
LAST-MODIFIED:20260421T144747
LOCATION:Main Campus Sanctuary
SUMMARY:Worship Service
URL;VALUE=URI:https://www.boonevillefupc.org/events/worship-service--7/2026
 -06-07
END:VEVENT
END:VCALENDAR
