BEGIN:VCALENDAR
VERSION:2.0
PRODID:icalendar-ruby
CALSCALE:GREGORIAN
METHOD:PUBLISH
BEGIN:VEVENT
DTSTAMP:20260421T171235Z
UID:7-495133@boonevillefupc.com
DTSTART:20260524T160000Z
DTEND:20260524T170000Z
CLASS:PUBLIC
CREATED:20260421T121128
DESCRIPTION:
LAST-MODIFIED:20260421T121128
LOCATION:Main Campus Sanctuary
SUMMARY:Worship Service
URL;VALUE=URI:https://www.boonevillefupc.org/events/worship-service--7/2026
 -05-24
END:VEVENT
END:VCALENDAR
