BEGIN:VCALENDAR
VERSION:2.0
PRODID:icalendar-ruby
CALSCALE:GREGORIAN
METHOD:PUBLISH
BEGIN:VEVENT
DTSTAMP:20260421T153114Z
UID:7-494730@boonevillefupc.com
DTSTART:20260517T160000Z
DTEND:20260517T170000Z
CLASS:PUBLIC
CREATED:20260421T093158
DESCRIPTION:
LAST-MODIFIED:20260421T093158
LOCATION:Main Campus Sanctuary
SUMMARY:Worship Service
URL;VALUE=URI:https://www.boonevillefupc.org/events/worship-service--7/2026
 -05-17
END:VEVENT
END:VCALENDAR
