BEGIN:VCALENDAR
VERSION:2.0
PRODID:icalendar-ruby
CALSCALE:GREGORIAN
METHOD:PUBLISH
BEGIN:VEVENT
DTSTAMP:20260421T115659Z
UID:7-494326@boonevillefupc.com
DTSTART:20260503T160000Z
DTEND:20260503T170000Z
CLASS:PUBLIC
CREATED:20260421T065622
DESCRIPTION:
LAST-MODIFIED:20260421T065622
LOCATION:Main Campus Sanctuary
SUMMARY:Worship Service
URL;VALUE=URI:https://www.boonevillefupc.org/events/worship-service--7/2026
 -05-03
END:VEVENT
END:VCALENDAR
