BEGIN:VCALENDAR
VERSION:2.0
PRODID:icalendar-ruby
CALSCALE:GREGORIAN
METHOD:PUBLISH
BEGIN:VEVENT
DTSTAMP:20260421T102436Z
UID:7-493923@boonevillefupc.com
DTSTART:20260426T160000Z
DTEND:20260426T170000Z
CLASS:PUBLIC
CREATED:20260420T194944
DESCRIPTION:
LAST-MODIFIED:20260420T194944
LOCATION:Main Campus Sanctuary
SUMMARY:Worship Service
URL;VALUE=URI:https://www.boonevillefupc.org/events/worship-service--7/2026
 -04-26
END:VEVENT
END:VCALENDAR
