BEGIN:VCALENDAR
VERSION:2.0
PRODID:icalendar-ruby
CALSCALE:GREGORIAN
METHOD:PUBLISH
BEGIN:VEVENT
DTSTAMP:20260425T011907Z
UID:6-503067@boonevillefupc.com
DTSTART:20260920T150000Z
DTEND:20260921T040000Z
CLASS:PUBLIC
CREATED:20260424T182608
DESCRIPTION:
LAST-MODIFIED:20260424T182608
LOCATION:Main Campus Sanctuary
SUMMARY:Sunday School
URL;VALUE=URI:https://www.boonevillefupc.org/events/sunday-school/2026-09-2
 0
END:VEVENT
END:VCALENDAR
