BEGIN:VCALENDAR
VERSION:2.0
PRODID:icalendar-ruby
CALSCALE:GREGORIAN
METHOD:PUBLISH
BEGIN:VEVENT
DTSTAMP:20260424T232257Z
UID:6-502663@boonevillefupc.com
DTSTART:20260913T150000Z
DTEND:20260914T040000Z
CLASS:PUBLIC
CREATED:20260424T153815
DESCRIPTION:
LAST-MODIFIED:20260424T153815
LOCATION:Main Campus Sanctuary
SUMMARY:Sunday School
URL;VALUE=URI:https://www.boonevillefupc.org/events/sunday-school/2026-09-1
 3
END:VEVENT
END:VCALENDAR
