BEGIN:VCALENDAR
VERSION:2.0
PRODID:icalendar-ruby
CALSCALE:GREGORIAN
METHOD:PUBLISH
BEGIN:VEVENT
DTSTAMP:20260424T215333Z
UID:6-502662@boonevillefupc.com
DTSTART:20260906T150000Z
DTEND:20260907T040000Z
CLASS:PUBLIC
CREATED:20260424T153815
DESCRIPTION:
LAST-MODIFIED:20260424T153815
LOCATION:Main Campus Sanctuary
SUMMARY:Sunday School
URL;VALUE=URI:https://www.boonevillefupc.org/events/sunday-school/2026-09-0
 6
END:VEVENT
END:VCALENDAR
