BEGIN:VCALENDAR
VERSION:2.0
PRODID:icalendar-ruby
CALSCALE:GREGORIAN
METHOD:PUBLISH
BEGIN:VEVENT
DTSTAMP:20260424T195124Z
UID:6-502258@boonevillefupc.com
DTSTART:20260830T150000Z
DTEND:20260831T040000Z
CLASS:PUBLIC
CREATED:20260424T125052
DESCRIPTION:
LAST-MODIFIED:20260424T125052
LOCATION:Main Campus Sanctuary
SUMMARY:Sunday School
URL;VALUE=URI:https://www.boonevillefupc.org/events/sunday-school/2026-08-3
 0
END:VEVENT
END:VCALENDAR
