BEGIN:VCALENDAR
VERSION:2.0
PRODID:icalendar-ruby
CALSCALE:GREGORIAN
METHOD:PUBLISH
BEGIN:VEVENT
DTSTAMP:20260424T135250Z
UID:6-501449@boonevillefupc.com
DTSTART:20260809T150000Z
DTEND:20260810T040000Z
CLASS:PUBLIC
CREATED:20260424T071113
DESCRIPTION:
LAST-MODIFIED:20260424T071113
LOCATION:Main Campus Sanctuary
SUMMARY:Sunday School
URL;VALUE=URI:https://www.boonevillefupc.org/events/sunday-school/2026-08-0
 9
END:VEVENT
END:VCALENDAR
