BEGIN:VCALENDAR
VERSION:2.0
PRODID:icalendar-ruby
CALSCALE:GREGORIAN
METHOD:PUBLISH
BEGIN:VEVENT
DTSTAMP:20260424T115800Z
UID:6-501045@boonevillefupc.com
DTSTART:20260802T150000Z
DTEND:20260803T040000Z
CLASS:PUBLIC
CREATED:20260423T214249
DESCRIPTION:
LAST-MODIFIED:20260423T214249
LOCATION:Main Campus Sanctuary
SUMMARY:Sunday School
URL;VALUE=URI:https://www.boonevillefupc.org/events/sunday-school/2026-08-0
 2
END:VEVENT
END:VCALENDAR
