BEGIN:VCALENDAR
VERSION:2.0
PRODID:icalendar-ruby
CALSCALE:GREGORIAN
METHOD:PUBLISH
BEGIN:VEVENT
DTSTAMP:20260420T080442Z
UID:6-491389@boonevillefupc.com
DTSTART:20260719T150000Z
DTEND:20260720T040000Z
CLASS:PUBLIC
CREATED:20260420T020804
DESCRIPTION:
LAST-MODIFIED:20260420T020804
LOCATION:Main Campus Sanctuary
SUMMARY:Sunday School
URL;VALUE=URI:https://www.boonevillefupc.org/events/sunday-school/2026-07-1
 9
END:VEVENT
END:VCALENDAR
