BEGIN:VCALENDAR
VERSION:2.0
PRODID:icalendar-ruby
CALSCALE:GREGORIAN
METHOD:PUBLISH
BEGIN:VEVENT
DTSTAMP:20260420T061056Z
UID:6-490987@boonevillefupc.com
DTSTART:20260712T150000Z
DTEND:20260713T040000Z
CLASS:PUBLIC
CREATED:20260419T223054
DESCRIPTION:
LAST-MODIFIED:20260419T223054
LOCATION:Main Campus Sanctuary
SUMMARY:Sunday School
URL;VALUE=URI:https://www.boonevillefupc.org/events/sunday-school/2026-07-1
 2
END:VEVENT
END:VCALENDAR
