BEGIN:VCALENDAR
VERSION:2.0
PRODID:icalendar-ruby
CALSCALE:GREGORIAN
METHOD:PUBLISH
BEGIN:VEVENT
DTSTAMP:20260419T202439Z
UID:6-490180@boonevillefupc.com
DTSTART:20260607T150000Z
DTEND:20260608T040000Z
CLASS:PUBLIC
CREATED:20260419T151032
DESCRIPTION:
LAST-MODIFIED:20260419T151032
LOCATION:Main Campus Sanctuary
SUMMARY:Sunday School
URL;VALUE=URI:https://www.boonevillefupc.org/events/sunday-school/2026-06-0
 7
END:VEVENT
END:VCALENDAR
