BEGIN:VCALENDAR
VERSION:2.0
PRODID:icalendar-ruby
CALSCALE:GREGORIAN
METHOD:PUBLISH
BEGIN:VEVENT
DTSTAMP:20260419T163621Z
UID:6-489778@boonevillefupc.com
DTSTART:20260524T150000Z
DTEND:20260525T040000Z
CLASS:PUBLIC
CREATED:20260419T112810
DESCRIPTION:
LAST-MODIFIED:20260419T112810
LOCATION:Main Campus Sanctuary
SUMMARY:Sunday School
URL;VALUE=URI:https://www.boonevillefupc.org/events/sunday-school/2026-05-2
 4
END:VEVENT
END:VCALENDAR
