BEGIN:VCALENDAR
VERSION:2.0
PRODID:icalendar-ruby
CALSCALE:GREGORIAN
METHOD:PUBLISH
BEGIN:VEVENT
DTSTAMP:20260419T130221Z
UID:6-489376@boonevillefupc.com
DTSTART:20260510T150000Z
DTEND:20260511T040000Z
CLASS:PUBLIC
CREATED:20260419T074612
DESCRIPTION:
LAST-MODIFIED:20260419T074612
LOCATION:Main Campus Sanctuary
SUMMARY:Sunday School
URL;VALUE=URI:https://www.boonevillefupc.org/events/sunday-school/2026-05-1
 0
END:VEVENT
END:VCALENDAR
