BEGIN:VCALENDAR
VERSION:2.0
PRODID:icalendar-ruby
CALSCALE:GREGORIAN
METHOD:PUBLISH
BEGIN:VEVENT
DTSTAMP:20260424T145540Z
UID:8-501727@boonevillefupc.com
DTSTART:20261015T000000Z
DTEND:20261015T010000Z
CLASS:PUBLIC
CREATED:20260424T071114
DESCRIPTION:
LAST-MODIFIED:20260424T071114
LOCATION:Various Locations
SUMMARY:Life Groups
URL;VALUE=URI:https://www.boonevillefupc.org/events/life-groups/2026-10-14
END:VEVENT
END:VCALENDAR
