BEGIN:VCALENDAR
VERSION:2.0
PRODID:icalendar-ruby
CALSCALE:GREGORIAN
METHOD:PUBLISH
BEGIN:VEVENT
DTSTAMP:20260424T125222Z
UID:8-501726@boonevillefupc.com
DTSTART:20261008T000000Z
DTEND:20261008T010000Z
CLASS:PUBLIC
CREATED:20260424T071114
DESCRIPTION:
LAST-MODIFIED:20260424T071114
LOCATION:Various Locations
SUMMARY:Life Groups
URL;VALUE=URI:https://www.boonevillefupc.org/events/life-groups/2026-10-07
END:VEVENT
END:VCALENDAR
