BEGIN:VCALENDAR
VERSION:2.0
PRODID:icalendar-ruby
CALSCALE:GREGORIAN
METHOD:PUBLISH
BEGIN:VEVENT
DTSTAMP:20260424T073107Z
UID:8-501320@boonevillefupc.com
DTSTART:20260917T000000Z
DTEND:20260917T010000Z
CLASS:PUBLIC
CREATED:20260423T214249
DESCRIPTION:
LAST-MODIFIED:20260423T214249
LOCATION:Various Locations
SUMMARY:Life Groups
URL;VALUE=URI:https://www.boonevillefupc.org/events/life-groups/2026-09-16
END:VEVENT
END:VCALENDAR
