BEGIN:VCALENDAR
VERSION:2.0
PRODID:icalendar-ruby
CALSCALE:GREGORIAN
METHOD:PUBLISH
BEGIN:VEVENT
DTSTAMP:20260424T020938Z
UID:8-500914@boonevillefupc.com
DTSTART:20260827T000000Z
DTEND:20260827T010000Z
CLASS:PUBLIC
CREATED:20260423T184837
DESCRIPTION:
LAST-MODIFIED:20260423T184837
LOCATION:Various Locations
SUMMARY:Life Groups
URL;VALUE=URI:https://www.boonevillefupc.org/events/life-groups/2026-08-26
END:VEVENT
END:VCALENDAR
