BEGIN:VCALENDAR
VERSION:2.0
PRODID:icalendar-ruby
CALSCALE:GREGORIAN
METHOD:PUBLISH
BEGIN:VEVENT
DTSTAMP:20260424T003036Z
UID:8-500913@boonevillefupc.com
DTSTART:20260820T000000Z
DTEND:20260820T010000Z
CLASS:PUBLIC
CREATED:20260423T184837
DESCRIPTION:
LAST-MODIFIED:20260423T184837
LOCATION:Various Locations
SUMMARY:Life Groups
URL;VALUE=URI:https://www.boonevillefupc.org/events/life-groups/2026-08-19
END:VEVENT
END:VCALENDAR
