BEGIN:VCALENDAR
VERSION:2.0
PRODID:icalendar-ruby
CALSCALE:GREGORIAN
METHOD:PUBLISH
BEGIN:VEVENT
DTSTAMP:20260423T223922Z
UID:8-500509@boonevillefupc.com
DTSTART:20260813T000000Z
DTEND:20260813T010000Z
CLASS:PUBLIC
CREATED:20260423T155512
DESCRIPTION:
LAST-MODIFIED:20260423T155512
LOCATION:Various Locations
SUMMARY:Life Groups
URL;VALUE=URI:https://www.boonevillefupc.org/events/life-groups/2026-08-12
END:VEVENT
END:VCALENDAR
