BEGIN:VCALENDAR
VERSION:2.0
PRODID:icalendar-ruby
CALSCALE:GREGORIAN
METHOD:PUBLISH
BEGIN:VEVENT
DTSTAMP:20260423T204421Z
UID:8-500105@boonevillefupc.com
DTSTART:20260806T000000Z
DTEND:20260806T010000Z
CLASS:PUBLIC
CREATED:20260423T125929
DESCRIPTION:
LAST-MODIFIED:20260423T125929
LOCATION:Various Locations
SUMMARY:Life Groups
URL;VALUE=URI:https://www.boonevillefupc.org/events/life-groups/2026-08-05
END:VEVENT
END:VCALENDAR
