BEGIN:VCALENDAR
VERSION:2.0
PRODID:icalendar-ruby
CALSCALE:GREGORIAN
METHOD:PUBLISH
BEGIN:VEVENT
DTSTAMP:20260423T170706Z
UID:8-499700@boonevillefupc.com
DTSTART:20260723T000000Z
DTEND:20260723T010000Z
CLASS:PUBLIC
CREATED:20260423T100342
DESCRIPTION:
LAST-MODIFIED:20260423T100342
LOCATION:Various Locations
SUMMARY:Life Groups
URL;VALUE=URI:https://www.boonevillefupc.org/events/life-groups/2026-07-22
END:VEVENT
END:VCALENDAR
