BEGIN:VCALENDAR
VERSION:2.0
PRODID:icalendar-ruby
CALSCALE:GREGORIAN
METHOD:PUBLISH
BEGIN:VEVENT
DTSTAMP:20260423T133334Z
UID:8-499295@boonevillefupc.com
DTSTART:20260709T000000Z
DTEND:20260709T010000Z
CLASS:PUBLIC
CREATED:20260423T071056
DESCRIPTION:
LAST-MODIFIED:20260423T071056
LOCATION:Various Locations
SUMMARY:Life Groups
URL;VALUE=URI:https://www.boonevillefupc.org/events/life-groups/2026-07-08
END:VEVENT
END:VCALENDAR
