BEGIN:VCALENDAR
VERSION:2.0
PRODID:icalendar-ruby
CALSCALE:GREGORIAN
METHOD:PUBLISH
BEGIN:VEVENT
DTSTAMP:20260421T010059Z
UID:8-494065@boonevillefupc.com
DTSTART:20260618T000000Z
DTEND:20260618T010000Z
CLASS:PUBLIC
CREATED:20260420T194944
DESCRIPTION:
LAST-MODIFIED:20260420T194944
LOCATION:Various Locations
SUMMARY:Life Groups
URL;VALUE=URI:https://www.boonevillefupc.org/events/life-groups/2026-06-17
END:VEVENT
END:VCALENDAR
