BEGIN:VCALENDAR
VERSION:2.0
PRODID:icalendar-ruby
CALSCALE:GREGORIAN
METHOD:PUBLISH
BEGIN:VEVENT
DTSTAMP:20260420T224011Z
UID:8-493662@boonevillefupc.com
DTSTART:20260611T000000Z
DTEND:20260611T010000Z
CLASS:PUBLIC
CREATED:20260420T171452
DESCRIPTION:
LAST-MODIFIED:20260420T171452
LOCATION:Various Locations
SUMMARY:Life Groups
URL;VALUE=URI:https://www.boonevillefupc.org/events/life-groups/2026-06-10
END:VEVENT
END:VCALENDAR
