BEGIN:VCALENDAR
VERSION:2.0
PRODID:icalendar-ruby
CALSCALE:GREGORIAN
METHOD:PUBLISH
BEGIN:VEVENT
DTSTAMP:20260420T202518Z
UID:8-493259@boonevillefupc.com
DTSTART:20260604T000000Z
DTEND:20260604T010000Z
CLASS:PUBLIC
CREATED:20260420T143853
DESCRIPTION:
LAST-MODIFIED:20260420T143853
LOCATION:Various Locations
SUMMARY:Life Groups
URL;VALUE=URI:https://www.boonevillefupc.org/events/life-groups/2026-06-03
END:VEVENT
END:VCALENDAR
