BEGIN:VCALENDAR
VERSION:2.0
PRODID:icalendar-ruby
CALSCALE:GREGORIAN
METHOD:PUBLISH
BEGIN:VEVENT
DTSTAMP:20260420T160931Z
UID:8-492453@boonevillefupc.com
DTSTART:20260521T000000Z
DTEND:20260521T010000Z
CLASS:PUBLIC
CREATED:20260420T093009
DESCRIPTION:
LAST-MODIFIED:20260420T093009
LOCATION:Various Locations
SUMMARY:Life Groups
URL;VALUE=URI:https://www.boonevillefupc.org/events/life-groups/2026-05-20
END:VEVENT
END:VCALENDAR
