BEGIN:VCALENDAR
VERSION:2.0
PRODID:icalendar-ruby
CALSCALE:GREGORIAN
METHOD:PUBLISH
BEGIN:VEVENT
DTSTAMP:20260420T140211Z
UID:8-492050@boonevillefupc.com
DTSTART:20260514T000000Z
DTEND:20260514T010000Z
CLASS:PUBLIC
CREATED:20260420T065500
DESCRIPTION:
LAST-MODIFIED:20260420T065500
LOCATION:Various Locations
SUMMARY:Life Groups
URL;VALUE=URI:https://www.boonevillefupc.org/events/life-groups/2026-05-13
END:VEVENT
END:VCALENDAR
