BEGIN:VCALENDAR
VERSION:2.0
PRODID:icalendar-ruby
CALSCALE:GREGORIAN
METHOD:PUBLISH
BEGIN:VEVENT
DTSTAMP:20260420T100243Z
UID:8-491646@boonevillefupc.com
DTSTART:20260430T000000Z
DTEND:20260430T010000Z
CLASS:PUBLIC
CREATED:20260420T020805
DESCRIPTION:
LAST-MODIFIED:20260420T020805
LOCATION:Various Locations
SUMMARY:Life Groups
URL;VALUE=URI:https://www.boonevillefupc.org/events/life-groups/2026-04-29
END:VEVENT
END:VCALENDAR
